BEGIN:VCALENDAR
VERSION:2.0
PRODID:-//Computer Science - ECPv6.15.20//NONSGML v1.0//EN
CALSCALE:GREGORIAN
METHOD:PUBLISH
X-WR-CALNAME:Computer Science
X-ORIGINAL-URL:https://csc.ncsu.edu
X-WR-CALDESC:Events for Computer Science
REFRESH-INTERVAL;VALUE=DURATION:PT1H
X-Robots-Tag:noindex
X-PUBLISHED-TTL:PT1H
BEGIN:VTIMEZONE
TZID:America/New_York
BEGIN:DAYLIGHT
TZOFFSETFROM:-0500
TZOFFSETTO:-0400
TZNAME:EDT
DTSTART:20240310T070000
END:DAYLIGHT
BEGIN:STANDARD
TZOFFSETFROM:-0400
TZOFFSETTO:-0500
TZNAME:EST
DTSTART:20241103T060000
END:STANDARD
BEGIN:DAYLIGHT
TZOFFSETFROM:-0500
TZOFFSETTO:-0400
TZNAME:EDT
DTSTART:20250309T070000
END:DAYLIGHT
BEGIN:STANDARD
TZOFFSETFROM:-0400
TZOFFSETTO:-0500
TZNAME:EST
DTSTART:20251102T060000
END:STANDARD
BEGIN:DAYLIGHT
TZOFFSETFROM:-0500
TZOFFSETTO:-0400
TZNAME:EDT
DTSTART:20260308T070000
END:DAYLIGHT
BEGIN:STANDARD
TZOFFSETFROM:-0400
TZOFFSETTO:-0500
TZNAME:EST
DTSTART:20261101T060000
END:STANDARD
END:VTIMEZONE
BEGIN:VEVENT
DTSTART;TZID=America/New_York:20251018T090000
DTEND;TZID=America/New_York:20251018T140000
DTSTAMP:20260422T070256
CREATED:20251013T193443Z
LAST-MODIFIED:20251017T164150Z
UID:10000033-1760778000-1760796000@csc.ncsu.edu
SUMMARY:University Open House
DESCRIPTION:Come join #NCStateCS on Saturday\, October 18 for University Open House! Chat with faculty\, explore our spaces\, meet our awesome ambassadors and more. \nCollege of Engineering Open House details.
URL:https://csc.ncsu.edu/event/university-open-house/
LOCATION:Engineering Building 2\, 890 Oval Drive.\, Raleigh\, NC\, 27606\, United States
CATEGORIES:College,Department,University
ATTACH;FMTTYPE=image/jpeg:https://csc.ncsu.edu/wp-content/uploads/sites/318/2025/10/54460391140_60d94276f6_o-scaled.jpg
END:VEVENT
END:VCALENDAR