BEGIN:VCALENDAR
VERSION:2.0
PRODID:-//Computer Science - ECPv6.15.20//NONSGML v1.0//EN
CALSCALE:GREGORIAN
METHOD:PUBLISH
X-WR-CALNAME:Computer Science
X-ORIGINAL-URL:https://csc.ncsu.edu
X-WR-CALDESC:Events for Computer Science
REFRESH-INTERVAL;VALUE=DURATION:PT1H
X-Robots-Tag:noindex
X-PUBLISHED-TTL:PT1H
BEGIN:VTIMEZONE
TZID:America/New_York
BEGIN:DAYLIGHT
TZOFFSETFROM:-0500
TZOFFSETTO:-0400
TZNAME:EDT
DTSTART:20240310T070000
END:DAYLIGHT
BEGIN:STANDARD
TZOFFSETFROM:-0400
TZOFFSETTO:-0500
TZNAME:EST
DTSTART:20241103T060000
END:STANDARD
BEGIN:DAYLIGHT
TZOFFSETFROM:-0500
TZOFFSETTO:-0400
TZNAME:EDT
DTSTART:20250309T070000
END:DAYLIGHT
BEGIN:STANDARD
TZOFFSETFROM:-0400
TZOFFSETTO:-0500
TZNAME:EST
DTSTART:20251102T060000
END:STANDARD
BEGIN:DAYLIGHT
TZOFFSETFROM:-0500
TZOFFSETTO:-0400
TZNAME:EDT
DTSTART:20260308T070000
END:DAYLIGHT
BEGIN:STANDARD
TZOFFSETFROM:-0400
TZOFFSETTO:-0500
TZNAME:EST
DTSTART:20261101T060000
END:STANDARD
END:VTIMEZONE
BEGIN:VEVENT
DTSTART;TZID=America/New_York:20251203T160000
DTEND;TZID=America/New_York:20251203T173000
DTSTAMP:20260425T111410
CREATED:20251117T173324Z
LAST-MODIFIED:20251118T163411Z
UID:10000041-1764777600-1764783000@csc.ncsu.edu
SUMMARY:Fall 2025 Senior Design Center's 'Posters and Pies'
DESCRIPTION:Join the Department of Computer Science for the Senior Design Center’s ‘Posters and Pies’ celebration on Wednesday\, December 3\, 2025 from 4 – 5:30 p.m. at the McKimmon Center in Raleigh. Each of our Fall 2025 Senior Design teams will proudly show off project demonstrations and poster displays! Dessert pies\, snacks and drinks will be served. \nRegister here. \nAbout the Senior Design Center (SDC)\nFor three decades\, the SDC has brought student teams and corporate sponsors together to work on real-world problems\, with a goal of creating viable products\, services and solutions. This is one of the department’s strongest programs\, helping develop and differentiate graduates as they enter the industry in a time of change\, collaboration and growth. \nFall 2025 Sponsors and Projects\n\nAriso: SciSummary’s Literature Review Mode\nBandwidth: AI Answering Machine Detector\nBenjamin Franklin Scholars: Alumni Association Portal Version 2.0\nDeutsche Bank: CODIN (COde Duplication INspector)\nFidelity: FidVent\nHeckman & Battestilli: MyDigitalHand\nHitachi Energy 1: Automated Test Report Generation\nHitachi Energy 2: Virtual Transformer Simulator\nImpartial 1: Justice Well Played – The Defense & Sentencing\nImpartial 2: Justice Well Played – Jury Deliberation\nKatabasis: King Crash’s Code\nLaboratory for Analytic Sciences 1: TuneTank: Model Fine-Tuning\nLaboratory for Analytic Sciences 2: Prompto – A Prompt Engineering Assistant\nLexisNexis: Resource Mapper\nMann+Hummel: High Volume IoT Monitoring & Control\nNC Department of Health & Human Services 1: IT Financial Management Dashboard\nNC Department of Health & Human Services 2: ReqWizard\nNC Parks & Recreation 1: Digital Passport\nNC Parks & Recreation 2: Digital Passport\nNC State CCEE Earthquake Research Team: Rapid Post-Earthquake Assessment of Bridges in Alaska\nNC State Computer Science Generative Intelligent Computing Lab: OceanConnect\nNC State Computer Science Undergraduate Curriculum Committee: Syllabus Tool\nNC State College of Management: MicroSim Lab\nNC State College of Natural Resources Christmas Tree Genetics Program: ROOTS 4.0\nNC State Department of Health & Exercise Studies: The Nutrition Adventure\nNC State Environmental Education Lab: Data Dashboard for Classroom Teachers\nNC State Sustainability Office: Waste Management Ticket Auto-Processor\nOpenDI: OpenDI Model Hub\nResumeFab: Adaptive Resume Generation\nSAS: Instant Insights – Data Cards for Your Data Assets\nSrougi: VR Biotech Education Minigames\nStallmann: Graph Algorithm Animation Tool (GALANT) Tree Extension\n\nSenior Design Center Teaching Team\, Fall 2025\n\nMargaret Scaturro Heil\, Director\nIgnacio Domínguez\, Assistant Director and Technical Advisor\nJason King\, Technical Advisor\nDavid Sturgill\, Technical Advisor\nCaio Batista\, Technical Advisor\nAlexander Card\, Technical Advisor\nAimee Allard\, Communications Coordinator\nKelly Markham\, Technical Communications Advisor\nMingshuo Wang\, Teaching Assistant\nJawad Saeed\, Teaching Assistant\nAshritha Bugada\, Teaching Assistant\nStephen Liu\, Teaching Assistant\nJacob Choi\, Teaching Assistant\n\nThank you to our program partners for their support of the Senior Design Center’s ‘Posters and Pies’: Blue Cross NC\, LexisNexis\, SAS and the Computer Science ePartners Program for their support of this event! \nMedia is welcome at this event. Contact Leslie Rand-Pickett for media and corporate partnership inquiries. \nMcKimmon Center visitor information.
URL:https://csc.ncsu.edu/event/fall-2025-senior-design-centers-posters-and-pies/
CATEGORIES:Senior Design Center
ATTACH;FMTTYPE=image/jpeg:https://csc.ncsu.edu/wp-content/uploads/sites/318/2025/11/R4_05774-copy-scaled.jpg
END:VEVENT
END:VCALENDAR