BEGIN:VCALENDAR
VERSION:2.0
PRODID:-//Computer Science - ECPv6.15.20//NONSGML v1.0//EN
CALSCALE:GREGORIAN
METHOD:PUBLISH
X-WR-CALNAME:Computer Science
X-ORIGINAL-URL:https://csc.ncsu.edu
X-WR-CALDESC:Events for Computer Science
REFRESH-INTERVAL;VALUE=DURATION:PT1H
X-Robots-Tag:noindex
X-PUBLISHED-TTL:PT1H
BEGIN:VTIMEZONE
TZID:America/New_York
BEGIN:DAYLIGHT
TZOFFSETFROM:-0500
TZOFFSETTO:-0400
TZNAME:EDT
DTSTART:20250309T070000
END:DAYLIGHT
BEGIN:STANDARD
TZOFFSETFROM:-0400
TZOFFSETTO:-0500
TZNAME:EST
DTSTART:20251102T060000
END:STANDARD
BEGIN:DAYLIGHT
TZOFFSETFROM:-0500
TZOFFSETTO:-0400
TZNAME:EDT
DTSTART:20260308T070000
END:DAYLIGHT
BEGIN:STANDARD
TZOFFSETFROM:-0400
TZOFFSETTO:-0500
TZNAME:EST
DTSTART:20261101T060000
END:STANDARD
BEGIN:DAYLIGHT
TZOFFSETFROM:-0500
TZOFFSETTO:-0400
TZNAME:EDT
DTSTART:20270314T070000
END:DAYLIGHT
BEGIN:STANDARD
TZOFFSETFROM:-0400
TZOFFSETTO:-0500
TZNAME:EST
DTSTART:20271107T060000
END:STANDARD
END:VTIMEZONE
BEGIN:VEVENT
DTSTART;TZID=America/New_York:20260304T090000
DTEND;TZID=America/New_York:20260304T150000
DTSTAMP:20260421T220706
CREATED:20260106T162133Z
LAST-MODIFIED:20260106T200241Z
UID:10000043-1772614800-1772636400@csc.ncsu.edu
SUMMARY:Computer Science Research Day Spring 2026
DESCRIPTION:The Department of Computer Science will host a Research Day for industry leaders on Wednesday\, March 4 from 9 a.m. – 3 p.m. in EB2. This event will feature short research presentations from faculty members\, followed by a networking lunch and a graduate student poster session in the afternoon. \nResearch presentation topics include: \n\nSoftware modernization\nRobotics and cyber-physical systems\nOptimization for logistics and artificial intelligence/machine learning\nAnd more!\n\nThis is a great opportunity to learn more about our faculty’s research\, and to network with faculty and industry professionals. \nQuestions? Contact Leslie Rand-Pickett: lcrandpi@ncsu.edu
URL:https://csc.ncsu.edu/event/computer-science-research-day/
LOCATION:EB2 3211 Seminar Room\, 890 Oval Dr.\, Raleigh\, NC\, 27695\, United States
CATEGORIES:Department,Research Day
ATTACH;FMTTYPE=image/jpeg:https://csc.ncsu.edu/wp-content/uploads/sites/318/2025/05/IMG_0012.jpeg
END:VEVENT
END:VCALENDAR