BEGIN:VCALENDAR
VERSION:2.0
PRODID:-//Computer Science - ECPv6.15.20//NONSGML v1.0//EN
CALSCALE:GREGORIAN
METHOD:PUBLISH
X-WR-CALNAME:Computer Science
X-ORIGINAL-URL:https://csc.ncsu.edu
X-WR-CALDESC:Events for Computer Science
REFRESH-INTERVAL;VALUE=DURATION:PT1H
X-Robots-Tag:noindex
X-PUBLISHED-TTL:PT1H
BEGIN:VTIMEZONE
TZID:America/New_York
BEGIN:DAYLIGHT
TZOFFSETFROM:-0500
TZOFFSETTO:-0400
TZNAME:EDT
DTSTART:20250309T070000
END:DAYLIGHT
BEGIN:STANDARD
TZOFFSETFROM:-0400
TZOFFSETTO:-0500
TZNAME:EST
DTSTART:20251102T060000
END:STANDARD
BEGIN:DAYLIGHT
TZOFFSETFROM:-0500
TZOFFSETTO:-0400
TZNAME:EDT
DTSTART:20260308T070000
END:DAYLIGHT
BEGIN:STANDARD
TZOFFSETFROM:-0400
TZOFFSETTO:-0500
TZNAME:EST
DTSTART:20261101T060000
END:STANDARD
BEGIN:DAYLIGHT
TZOFFSETFROM:-0500
TZOFFSETTO:-0400
TZNAME:EDT
DTSTART:20270314T070000
END:DAYLIGHT
BEGIN:STANDARD
TZOFFSETFROM:-0400
TZOFFSETTO:-0500
TZNAME:EST
DTSTART:20271107T060000
END:STANDARD
END:VTIMEZONE
BEGIN:VEVENT
DTSTART;VALUE=DATE:20260325
DTEND;VALUE=DATE:20260326
DTSTAMP:20260424T040912
CREATED:20260216T192717Z
LAST-MODIFIED:20260318T201641Z
UID:10000047-1774396800-1774483199@csc.ncsu.edu
SUMMARY:#GivingPack: NC State CS Day of Giving 2026
DESCRIPTION:Each year\, our incredible alumni\, faculty\, staff\, students\, ePartners and the broader computer science community come together to make an impact during Day of Giving. NC State Day of Giving is a 24-hour fundraising event celebrated university-wide. It’s also a chance to strengthen our department in critical areas. Last year’s Day of Giving supporters: \n🎤 sent students to present at high-profile conferences and events\n provided the money to attract and hire top-tier teaching and research talent\n supported numerous student groups\, including the CS Student Ambassadors and Women in Computer Science \nFor nearly 60 years\, NC State’s Department of Computer Science has worked to advance the citizens of North Carolina\, the nation and the world through excellence in computing education and research. \nOur department doesn’t just focus on the now; we’re interested in what’s next. We’re recruiting top-tier research and teaching talent. We’re helping our students enter the workforce in a time of change\, collaboration and growth. We’re engaging with key industry partners both at home and abroad. We produce the best of the best – from new tech and research to the talent of tomorrow: our CS grads! \nYour support is critical in driving us forward and advancing computer science education and research. Thank you.\nDonate to the Department of Computer Science Enhancement Fund \nAdditional Department of Computer Science Funds
URL:https://csc.ncsu.edu/event/givingpack-nc-state-cs-day-of-giving-2026/
CATEGORIES:College,University
END:VEVENT
END:VCALENDAR